BEGIN:VCALENDAR
VERSION:2.0
PRODID:-//ChamberMaster//Event Calendar 2.0//EN
METHOD:PUBLISH
X-PUBLISHED-TTL:P3D
REFRESH-INTERVAL:P3D
CALSCALE:GREGORIAN
BEGIN:VEVENT
DTSTART:20260502T160000Z
DTEND:20260502T190000Z
X-MICROSOFT-CDO-ALLDAYEVENT:FALSE
SUMMARY:Rabies Vaccination Clinic
DESCRIPTION:Annual Friends of the Jacksboro Animal Shelter Rabies Vaccination Clinic is free to the public but donations are appreciated. Cats must be in carrier and dogs on a leash. Event is held in the Rural Fire Station from 11 am to 2 pm.
X-ALT-DESC;FMTTYPE=text/html:Annual Friends of the Jacksboro Animal Shelter Rabies Vaccination Clinic is free to the public but donations are appreciated. Cats must be in carrier and dogs on a leash. Event is held in the Rural Fire Station from 11 am to 2 pm.
LOCATION:Jack County Rural Fire Station\, enter on North St.
UID:e.1259.7225
SEQUENCE:3
DTSTAMP:20260423T174300Z
URL:https://jacksborochamber.com/events/details/rabies-vaccination-clinic-7225
END:VEVENT

END:VCALENDAR
